BEGIN:VCALENDAR
VERSION:2.0
PRODID:-//Union Church of Hinsdale - ECPv6.15.18//NONSGML v1.0//EN
CALSCALE:GREGORIAN
METHOD:PUBLISH
X-ORIGINAL-URL:https://hinsdale.church
X-WR-CALDESC:Events for Union Church of Hinsdale
REFRESH-INTERVAL;VALUE=DURATION:PT1H
X-Robots-Tag:noindex
X-PUBLISHED-TTL:PT1H
BEGIN:VTIMEZONE
TZID:America/Chicago
BEGIN:DAYLIGHT
TZOFFSETFROM:-0600
TZOFFSETTO:-0500
TZNAME:CDT
DTSTART:20220313T080000
END:DAYLIGHT
BEGIN:STANDARD
TZOFFSETFROM:-0500
TZOFFSETTO:-0600
TZNAME:CST
DTSTART:20221106T070000
END:STANDARD
BEGIN:DAYLIGHT
TZOFFSETFROM:-0600
TZOFFSETTO:-0500
TZNAME:CDT
DTSTART:20230312T080000
END:DAYLIGHT
BEGIN:STANDARD
TZOFFSETFROM:-0500
TZOFFSETTO:-0600
TZNAME:CST
DTSTART:20231105T070000
END:STANDARD
BEGIN:DAYLIGHT
TZOFFSETFROM:-0600
TZOFFSETTO:-0500
TZNAME:CDT
DTSTART:20240310T080000
END:DAYLIGHT
BEGIN:STANDARD
TZOFFSETFROM:-0500
TZOFFSETTO:-0600
TZNAME:CST
DTSTART:20241103T070000
END:STANDARD
END:VTIMEZONE
BEGIN:VEVENT
DTSTART;TZID=America/Chicago:20230212T111500
DTEND;TZID=America/Chicago:20230212T123000
DTSTAMP:20260421T184306
CREATED:20230131T215231Z
LAST-MODIFIED:20230201T222911Z
UID:2923-1676200500-1676205000@hinsdale.church
SUMMARY:Being Catholic at Union Church
DESCRIPTION:Feb 12 11:15-12:30 in Rowell Hall \nWhat do we believe?\nMany of our members at UCH were raised Catholic\, and some still consider themselves Catholic (at least in some ways). What does that mean as a person of faith who worships here at Union? Reverend Mike will lead these sessions on that very topic. These sessions are intended for those who consider themselves Catholic in some way\, those who are curious about getting more involved at UCH even though they have a Catholic background\, or just anyone curious and wanting to learn more!
URL:https://hinsdale.church/anevent/being-catholic-at-union-church/
LOCATION:Union Church of Hinsdale\, 137 S Garfield Ave.\, Hinsdale\, IL\, 60521\, United States
CATEGORIES:Community,Event
END:VEVENT
END:VCALENDAR