BEGIN:VCALENDAR
VERSION:2.0
PRODID:-//Union Church of Hinsdale - ECPv6.15.18//NONSGML v1.0//EN
CALSCALE:GREGORIAN
METHOD:PUBLISH
X-ORIGINAL-URL:https://hinsdale.church
X-WR-CALDESC:Events for Union Church of Hinsdale
REFRESH-INTERVAL;VALUE=DURATION:PT1H
X-Robots-Tag:noindex
X-PUBLISHED-TTL:PT1H
BEGIN:VTIMEZONE
TZID:America/Chicago
BEGIN:DAYLIGHT
TZOFFSETFROM:-0600
TZOFFSETTO:-0500
TZNAME:CDT
DTSTART:20230312T080000
END:DAYLIGHT
BEGIN:STANDARD
TZOFFSETFROM:-0500
TZOFFSETTO:-0600
TZNAME:CST
DTSTART:20231105T070000
END:STANDARD
BEGIN:DAYLIGHT
TZOFFSETFROM:-0600
TZOFFSETTO:-0500
TZNAME:CDT
DTSTART:20240310T080000
END:DAYLIGHT
BEGIN:STANDARD
TZOFFSETFROM:-0500
TZOFFSETTO:-0600
TZNAME:CST
DTSTART:20241103T070000
END:STANDARD
BEGIN:DAYLIGHT
TZOFFSETFROM:-0600
TZOFFSETTO:-0500
TZNAME:CDT
DTSTART:20250309T080000
END:DAYLIGHT
BEGIN:STANDARD
TZOFFSETFROM:-0500
TZOFFSETTO:-0600
TZNAME:CST
DTSTART:20251102T070000
END:STANDARD
END:VTIMEZONE
BEGIN:VEVENT
DTSTART;VALUE=DATE:20240101
DTEND;VALUE=DATE:20250101
DTSTAMP:20260420T205100
CREATED:20240201T152050Z
LAST-MODIFIED:20240220T162845Z
UID:3312-1704067200-1735689599@hinsdale.church
SUMMARY:Volunteer through the Ministry for Change
DESCRIPTION:https://hinsdale.church/volunteer/
URL:https://hinsdale.church/anevent/volunteer-through-the-ministry-for-change/
LOCATION:Union Church of Hinsdale\, 137 S Garfield Ave.\, Hinsdale\, IL\, 60521\, United States
CATEGORIES:Community,Event
END:VEVENT
BEGIN:VEVENT
DTSTART;TZID=America/Chicago:20240322T190000
DTEND;TZID=America/Chicago:20240322T210000
DTSTAMP:20260420T205100
CREATED:20240313T211427Z
LAST-MODIFIED:20240327T185218Z
UID:3345-1711134000-1711141200@hinsdale.church
SUMMARY:Ostrega Uhl Project: Best of Brahms
DESCRIPTION:Friday\, March 22\, at 7:00 p.m.\, in the Sanctuary \nJoin the Ostrega Uhl Project in its season finale performance! Our program will feature piano trio and piano quintet selections and arrangements of some of Brahms’ best works\, highlighting his exuberant first piano trio\, the soaring and inspiring melodies of his second symphony in a special one-of-a-kind arrangement for string quintet\, the famous Hungarian Dance No. 5\, and culminating with Brahms’ Piano Quintet in F minor.
URL:https://hinsdale.church/anevent/ostrega-uhl-project-best-of-brahms/
LOCATION:Union Church of Hinsdale\, 137 S Garfield Ave.\, Hinsdale\, IL\, 60521\, United States
CATEGORIES:Community,Event
END:VEVENT
END:VCALENDAR