BEGIN:VCALENDAR
VERSION:2.0
PRODID:-//Union Church of Hinsdale - ECPv6.15.18//NONSGML v1.0//EN
CALSCALE:GREGORIAN
METHOD:PUBLISH
X-ORIGINAL-URL:https://hinsdale.church
X-WR-CALDESC:Events for Union Church of Hinsdale
REFRESH-INTERVAL;VALUE=DURATION:PT1H
X-Robots-Tag:noindex
X-PUBLISHED-TTL:PT1H
BEGIN:VTIMEZONE
TZID:America/Chicago
BEGIN:DAYLIGHT
TZOFFSETFROM:-0600
TZOFFSETTO:-0500
TZNAME:CDT
DTSTART:20220313T080000
END:DAYLIGHT
BEGIN:STANDARD
TZOFFSETFROM:-0500
TZOFFSETTO:-0600
TZNAME:CST
DTSTART:20221106T070000
END:STANDARD
BEGIN:DAYLIGHT
TZOFFSETFROM:-0600
TZOFFSETTO:-0500
TZNAME:CDT
DTSTART:20230312T080000
END:DAYLIGHT
BEGIN:STANDARD
TZOFFSETFROM:-0500
TZOFFSETTO:-0600
TZNAME:CST
DTSTART:20231105T070000
END:STANDARD
BEGIN:DAYLIGHT
TZOFFSETFROM:-0600
TZOFFSETTO:-0500
TZNAME:CDT
DTSTART:20240310T080000
END:DAYLIGHT
BEGIN:STANDARD
TZOFFSETFROM:-0500
TZOFFSETTO:-0600
TZNAME:CST
DTSTART:20241103T070000
END:STANDARD
END:VTIMEZONE
BEGIN:VEVENT
DTSTART;VALUE=DATE:20230619
DTEND;VALUE=DATE:20230620
DTSTAMP:20260419T195945
CREATED:20230619T183724Z
LAST-MODIFIED:20230630T204731Z
UID:3086-1687132800-1687219199@hinsdale.church
SUMMARY:Mission Volunteer Opportunities: The Night Ministry and A Just Harvest
DESCRIPTION:Sign up here: Mission Volunteer Opportunities: The Night Ministry and A Just Harvest Signup Registration.
URL:https://hinsdale.church/anevent/mission-volunteer-opportunities-the-night-ministry-and-a-just-harvest/
LOCATION:Union Church of Hinsdale\, 137 S Garfield Ave.\, Hinsdale\, IL\, 60521\, United States
CATEGORIES:Community
END:VEVENT
BEGIN:VEVENT
DTSTART;VALUE=DATE:20230611
DTEND;VALUE=DATE:20230612
DTSTAMP:20260419T195945
CREATED:20230605T212134Z
LAST-MODIFIED:20230619T183759Z
UID:3074-1686441600-1686527999@hinsdale.church
SUMMARY:Summer Sermon Series: The Lord’s Prayer
DESCRIPTION:While most of us have the Lord’s Prayer memorized and say it every week\, this series will help us all break it down stanza by stanza\, week by week\, to dig deep on its meaning. We hope you join us for this thought-provoking conversation that will last over the 13 weeks of summer and through Labor Day
URL:https://hinsdale.church/anevent/summer-sermon-series-the-lords-prayer/
LOCATION:Union Church of Hinsdale\, 137 S Garfield Ave.\, Hinsdale\, IL\, 60521\, United States
CATEGORIES:Community,Event
END:VEVENT
BEGIN:VEVENT
DTSTART;VALUE=DATE:20230610
DTEND;VALUE=DATE:20230618
DTSTAMP:20260419T195945
CREATED:20230131T220332Z
LAST-MODIFIED:20230601T190249Z
UID:2928-1686355200-1687046399@hinsdale.church
SUMMARY:Work Tour
DESCRIPTION:Open to 8th grade through college sophomores. Please contact Grant Glowiak for more information. (gglowiak@uchinsdale.org)
URL:https://hinsdale.church/anevent/work-tour/
LOCATION:Union Church of Hinsdale\, 137 S Garfield Ave.\, Hinsdale\, IL\, 60521\, United States
CATEGORIES:Community
END:VEVENT
BEGIN:VEVENT
DTSTART;TZID=America/Chicago:20230608T113000
DTEND;TZID=America/Chicago:20230608T130000
DTSTAMP:20260419T195945
CREATED:20230504T220539Z
LAST-MODIFIED:20230612T183849Z
UID:3059-1686223800-1686229200@hinsdale.church
SUMMARY:The Boulevard: A Celebration of Home and Healing
DESCRIPTION:A Fundraising Luncheon for The Boulevard – one of Union Church’s mission partners: A Celebration of Home & Healing on Thursday\, June 8\, 2023 from 11:30 a.m. to 1:00 p.m.\, at the University Club of Chicago\, 75 E Monroe\, Chicago\, IL 60603 \nThe Boulevard exists to serve ill and injured homeless adults with medical respite care\, holistic support\, and housing services to restore their health and rebuild their lives. Proceeds from our Luncheon fundraiser will directly support the many valuable programs and services we provide to those in need. The Luncheon will feature keynote speaker Dr. Jim O’Connell\, one of the leading founders of medical respite care for the homeless. Dr. O’Connell was recently featured in The New York Times Magazine’s cover article. \nYou can find out more\, buy tickets or make a donation at: https://blvd.org/event/2023-luncheon-fundraiser.
URL:https://hinsdale.church/anevent/the-boulevard-a-celebration-of-home-and-healing/
LOCATION:IL
CATEGORIES:Community,Event
END:VEVENT
BEGIN:VEVENT
DTSTART;TZID=America/Chicago:20230604T111500
DTEND;TZID=America/Chicago:20230604T133000
DTSTAMP:20260419T195945
CREATED:20230321T173445Z
LAST-MODIFIED:20230605T211848Z
UID:3015-1685877300-1685885400@hinsdale.church
SUMMARY:All Church Picnic
DESCRIPTION:Please bring a side dish\, salad or dessert to share with all on Sunday\, June 4th. Parish Life will be supplying hot dogs\, brats\, veggie burgers\, drinks and a bounce house!
URL:https://hinsdale.church/anevent/all-church-picnic/
LOCATION:Union Church of Hinsdale\, 137 S Garfield Ave.\, Hinsdale\, IL\, 60521\, United States
CATEGORIES:Community,Event
END:VEVENT
BEGIN:VEVENT
DTSTART;TZID=America/Chicago:20230528T090700
DTEND;TZID=America/Chicago:20230528T100000
DTSTAMP:20260419T195945
CREATED:20230427T212431Z
LAST-MODIFIED:20230530T151912Z
UID:3049-1685264820-1685268000@hinsdale.church
SUMMARY:Bicycle Blessing
DESCRIPTION:
URL:https://hinsdale.church/anevent/bicycle-blessing/
LOCATION:Union Church of Hinsdale\, 137 S Garfield Ave.\, Hinsdale\, IL\, 60521\, United States
CATEGORIES:Community,Event
END:VEVENT
BEGIN:VEVENT
DTSTART;TZID=America/Chicago:20230523T170000
DTEND;TZID=America/Chicago:20230523T183000
DTSTAMP:20260419T195945
CREATED:20230504T220000Z
LAST-MODIFIED:20230522T202211Z
UID:3054-1684861200-1684866600@hinsdale.church
SUMMARY:PADS 2023 Meal Packing and Delivery
DESCRIPTION:Union Church provides a healthy meal delivered to each client on the 4th Tuesday of each month. We are looking for volunteers to shop for healthy sides for the meals and to hand out and meals to the clients in the Interim Housing Center in Downers Grove. Please use the link below to sign to shop for sides or to distribute meals\, or both!\nSign up here!
URL:https://hinsdale.church/anevent/pads-2023-meal-packing-and-delivery/
LOCATION:IL
CATEGORIES:Community,Event
END:VEVENT
BEGIN:VEVENT
DTSTART;TZID=America/Chicago:20230521T111500
DTEND;TZID=America/Chicago:20230521T121500
DTSTAMP:20260419T195945
CREATED:20230427T212034Z
LAST-MODIFIED:20230522T202150Z
UID:3046-1684667700-1684671300@hinsdale.church
SUMMARY:Open and Affirming Informational Meeting
DESCRIPTION:in Rowell Hall
URL:https://hinsdale.church/anevent/open-and-affirming-informational-meeting/
LOCATION:Union Church of Hinsdale\, 137 S Garfield Ave.\, Hinsdale\, IL\, 60521\, United States
CATEGORIES:Community,Event
END:VEVENT
BEGIN:VEVENT
DTSTART;TZID=America/Chicago:20230510T120000
DTEND;TZID=America/Chicago:20230510T133000
DTSTAMP:20260419T195945
CREATED:20230309T224102Z
LAST-MODIFIED:20230412T201906Z
UID:3011-1683720000-1683725400@hinsdale.church
SUMMARY:Fellowship Luncheon
DESCRIPTION:Noon in the Dining Room
URL:https://hinsdale.church/anevent/mens-club-presents-adult-fellowship-luncheon-2/
LOCATION:Union Church of Hinsdale\, 137 S Garfield Ave.\, Hinsdale\, IL\, 60521\, United States
CATEGORIES:Community,Event
END:VEVENT
BEGIN:VEVENT
DTSTART;TZID=America/Chicago:20230430T111500
DTEND;TZID=America/Chicago:20230430T120000
DTSTAMP:20260419T195945
CREATED:20230131T215826Z
LAST-MODIFIED:20230502T165712Z
UID:2926-1682853300-1682856000@hinsdale.church
SUMMARY:Communion Class for Kids
DESCRIPTION:April 30 11:15 to 12:00 in Rowell Hall \nAlthough we don’t do a formal ‘First Communion’ in the UCC\, we\nperiodically offer a class to help children better understand what\n‘The Lord’s Supper’ is and why we do it.
URL:https://hinsdale.church/anevent/communion-class-for-kids/
LOCATION:Union Church of Hinsdale\, 137 S Garfield Ave.\, Hinsdale\, IL\, 60521\, United States
CATEGORIES:Community,Event
END:VEVENT
BEGIN:VEVENT
DTSTART;VALUE=DATE:20230426
DTEND;VALUE=DATE:20230427
DTSTAMP:20260419T195945
CREATED:20230427T212245Z
LAST-MODIFIED:20230510T165936Z
UID:3047-1682467200-1682553599@hinsdale.church
SUMMARY:Making A Holy Difference Campaign
DESCRIPTION:The mission component of our Making a Holy Difference campaign/fund is bearing fruit! The Ministry for Change recently approved a $15\,500 grant from the accumulated proceeds of the Global Mission portion of the fund to complete important needed repairs at the Mike Solberg School in Waku Kungo\, Angola. The school serves 779 K-8 students\, and this grant will improve and sustain their learning environment!
URL:https://hinsdale.church/anevent/making-a-holy-difference-campaign/
LOCATION:Union Church of Hinsdale\, 137 S Garfield Ave.\, Hinsdale\, IL\, 60521\, United States
CATEGORIES:Community,Event
END:VEVENT
BEGIN:VEVENT
DTSTART;TZID=America/Chicago:20230423T150000
DTEND;TZID=America/Chicago:20230423T150000
DTSTAMP:20260419T195945
CREATED:20230314T162703Z
LAST-MODIFIED:20230425T212808Z
UID:3014-1682262000-1682262000@hinsdale.church
SUMMARY:Elmhurst Symphony Orchestra
DESCRIPTION:Elmhurst Symphony Orchestra musicians lead by Maestro Stephen Alltop present a French Feast on Sunday\, April 23\, 2023! Featuring a mix of woodwinds\, harp\, organ\, and strings\, the program will include music by Ravel\, Fauré\, Boëllmann\, Grandjany\, and Rabaud.
URL:https://hinsdale.church/anevent/elmhurst-symphony-orchestra/
LOCATION:Union Church of Hinsdale\, 137 S Garfield Ave.\, Hinsdale\, IL\, 60521\, United States
CATEGORIES:Community,Event
ORGANIZER;CN="Union Church of Hinsdale":MAILTO:union@uchinsdale.org
END:VEVENT
BEGIN:VEVENT
DTSTART;TZID=America/Chicago:20230412T120000
DTEND;TZID=America/Chicago:20230412T133000
DTSTAMP:20260419T195945
CREATED:20230309T224029Z
LAST-MODIFIED:20230412T202051Z
UID:3010-1681300800-1681306200@hinsdale.church
SUMMARY:Fellowship Luncheon
DESCRIPTION:Noon in the Dining Room
URL:https://hinsdale.church/anevent/fellowship-luncheon-april-2023/
LOCATION:Union Church of Hinsdale\, 137 S Garfield Ave.\, Hinsdale\, IL\, 60521\, United States
CATEGORIES:Community,Event
END:VEVENT
BEGIN:VEVENT
DTSTART;TZID=America/Chicago:20230408T100000
DTEND;TZID=America/Chicago:20230408T110000
DTSTAMP:20260419T195945
CREATED:20230215T232352Z
LAST-MODIFIED:20230410T213410Z
UID:2975-1680948000-1680951600@hinsdale.church
SUMMARY:Parish Life Easter Egg Hunt
DESCRIPTION:
URL:https://hinsdale.church/anevent/parish-life-easter-egg-hunt/
LOCATION:Union Church of Hinsdale\, 137 S Garfield Ave.\, Hinsdale\, IL\, 60521\, United States
CATEGORIES:Community,Event
END:VEVENT
BEGIN:VEVENT
DTSTART;TZID=America/Chicago:20230403T113000
DTEND;TZID=America/Chicago:20230403T123000
DTSTAMP:20260419T195945
CREATED:20230216T183952Z
LAST-MODIFIED:20230216T183952Z
UID:2985-1680521400-1680525000@hinsdale.church
SUMMARY:Lenten Bible Study/Sermon Talk Back
DESCRIPTION:Every Monday during Lent we will meet on ZOOM to discuss our thoughts on the 10:00 a.m. Sermon Series “Seven Last Words” … centering ourselves on these\, the last sentiments of Jesus Christ in his final moments. \nEveryone welcome! RSVP by emailing union@uchinsdale.org.
URL:https://hinsdale.church/anevent/lenten-bible-study-sermon-talk-back-6/
LOCATION:Union Church of Hinsdale\, 137 S Garfield Ave.\, Hinsdale\, IL\, 60521\, United States
CATEGORIES:Community,Event
END:VEVENT
BEGIN:VEVENT
DTSTART;TZID=America/Chicago:20230327T113000
DTEND;TZID=America/Chicago:20230327T123000
DTSTAMP:20260419T195945
CREATED:20230216T183925Z
LAST-MODIFIED:20230216T183925Z
UID:2984-1679916600-1679920200@hinsdale.church
SUMMARY:Lenten Bible Study/Sermon Talk Back
DESCRIPTION:Every Monday during Lent we will meet on ZOOM to discuss our thoughts on the 10:00 a.m. Sermon Series “Seven Last Words” … centering ourselves on these\, the last sentiments of Jesus Christ in his final moments. \nEveryone welcome! RSVP by emailing union@uchinsdale.org.
URL:https://hinsdale.church/anevent/lenten-bible-study-sermon-talk-back-5/
LOCATION:Union Church of Hinsdale\, 137 S Garfield Ave.\, Hinsdale\, IL\, 60521\, United States
CATEGORIES:Community,Event
END:VEVENT
BEGIN:VEVENT
DTSTART;VALUE=DATE:20230323
DTEND;VALUE=DATE:20230324
DTSTAMP:20260419T195945
CREATED:20230323T174145Z
LAST-MODIFIED:20230425T213018Z
UID:3026-1679529600-1679615999@hinsdale.church
SUMMARY:Special Easter Offering: The Night Ministry
DESCRIPTION:For our Easter Offering this year\, we encourage you to make a special contribution to  The Night Ministry\, one of our Ministry for Change agency partners.  Please note that the first $2\,500 donated will be met with a dollar for dollar match! \nThe Night Ministry makes a difference in the lives of thousands of young people and adults in Chicago every year by providing: housing for unhoused youth and young adults\, including pregnant and parenting young mothers and their children; free basic health care to individuals unable to access it elsewhere; and compassionate\, nonjudgmental relationships that bring hope and change lives. Click here to learn more: https://thenightministry.org/ \nFor the Easter Offering\, you may donate to The Night Ministry or make a special contribution to the church – or do both! If you would like The Night Ministry to receive your Easter offering please  (1) if donating online\, please enter your pledge amount and select “Easter Offering –  The Night Ministry” in the “Fund” drop down “OR (2) donate cash in a special goldenrod envelope OR (3) send in or drop off a check\, with a note in the memo line stating “The Night Ministry Easter Offering”.
URL:https://hinsdale.church/anevent/special-easter-offering-the-night-ministry/
LOCATION:Union Church of Hinsdale\, 137 S Garfield Ave.\, Hinsdale\, IL\, 60521\, United States
CATEGORIES:Community,Event
END:VEVENT
BEGIN:VEVENT
DTSTART;TZID=America/Chicago:20230322T160000
DTEND;TZID=America/Chicago:20230322T183000
DTSTAMP:20260419T195945
CREATED:20230201T224111Z
LAST-MODIFIED:20230207T200514Z
UID:2946-1679500800-1679509800@hinsdale.church
SUMMARY:Gather + Grow Youth Group
DESCRIPTION:For questions and registration\, please contact Penny (pjohnson@uchinsdale.org) or Grant (gglowiak@uchinsdale.org). \nGrades 2/3/4/5 4:00 p.m. to 5:30 p.m. with snack\nGrades 6/7/8: 4:00 p.m. to 6:30 p.m. with dinner (or anytime within that time frame)
URL:https://hinsdale.church/anevent/gather-grow-youth-group-12/
LOCATION:Union Church of Hinsdale\, 137 S Garfield Ave.\, Hinsdale\, IL\, 60521\, United States
CATEGORIES:Community,Event
END:VEVENT
BEGIN:VEVENT
DTSTART;VALUE=DATE:20230321
DTEND;VALUE=DATE:20230322
DTSTAMP:20260419T195945
CREATED:20230321T174220Z
LAST-MODIFIED:20230323T173951Z
UID:3019-1679356800-1679443199@hinsdale.church
SUMMARY:Celebrating Julie’s House in Angola
DESCRIPTION:Through our Easter Offering last year\, we were able to provide over $10\,000 to build a new home for Ms. Julia\, where she will be able to raise her family and be safe and healthy. With just a little landscaping work yet to do\, Julia and her children are now in their home and are doing well! This is truly a situation of a life transformed by generosity\, and it was a great way to celebrate Easter! Deep thanks to all who contributed!
URL:https://hinsdale.church/anevent/celebrating-julies-house-in-angola/
LOCATION:Union Church of Hinsdale\, 137 S Garfield Ave.\, Hinsdale\, IL\, 60521\, United States
CATEGORIES:Community,Event
END:VEVENT
BEGIN:VEVENT
DTSTART;TZID=America/Chicago:20230320T113000
DTEND;TZID=America/Chicago:20230320T123000
DTSTAMP:20260419T195945
CREATED:20230216T183827Z
LAST-MODIFIED:20230216T183827Z
UID:2983-1679311800-1679315400@hinsdale.church
SUMMARY:Lenten Bible Study/Sermon Talk Back
DESCRIPTION:Every Monday during Lent we will meet on ZOOM to discuss our thoughts on the 10:00 a.m. Sermon Series “Seven Last Words” … centering ourselves on these\, the last sentiments of Jesus Christ in his final moments. \nEveryone welcome! RSVP by emailing union@uchinsdale.org.
URL:https://hinsdale.church/anevent/lenten-bible-study-sermon-talk-back-4/
LOCATION:Union Church of Hinsdale\, 137 S Garfield Ave.\, Hinsdale\, IL\, 60521\, United States
CATEGORIES:Community,Event
END:VEVENT
BEGIN:VEVENT
DTSTART;TZID=America/Chicago:20230315T160000
DTEND;TZID=America/Chicago:20230315T183000
DTSTAMP:20260419T195945
CREATED:20230201T224051Z
LAST-MODIFIED:20230207T200509Z
UID:2945-1678896000-1678905000@hinsdale.church
SUMMARY:Gather + Grow Youth Group
DESCRIPTION:For questions and registration\, please contact Penny (pjohnson@uchinsdale.org) or Grant (gglowiak@uchinsdale.org). \nGrades 2/3/4/5 4:00 p.m. to 5:30 p.m. with snack\nGrades 6/7/8: 4:00 p.m. to 6:30 p.m. with dinner (or anytime within that time frame)
URL:https://hinsdale.church/anevent/gather-grow-youth-group-11/
LOCATION:Union Church of Hinsdale\, 137 S Garfield Ave.\, Hinsdale\, IL\, 60521\, United States
CATEGORIES:Community,Event
END:VEVENT
BEGIN:VEVENT
DTSTART;TZID=America/Chicago:20230313T113000
DTEND;TZID=America/Chicago:20230313T123000
DTSTAMP:20260419T195945
CREATED:20230216T183720Z
LAST-MODIFIED:20230216T183847Z
UID:2982-1678707000-1678710600@hinsdale.church
SUMMARY:Lenten Bible Study/Sermon Talk Back
DESCRIPTION:Every Monday during Lent we will meet on ZOOM to discuss our thoughts on the 10:00 a.m. Sermon Series “Seven Last Words” … centering ourselves on these\, the last sentiments of Jesus Christ in his final moments. \nEveryone welcome! RSVP by emailing union@uchinsdale.org.
URL:https://hinsdale.church/anevent/lenten-bible-study-sermon-talk-back-3/
LOCATION:Union Church of Hinsdale\, 137 S Garfield Ave.\, Hinsdale\, IL\, 60521\, United States
CATEGORIES:Community,Event
END:VEVENT
BEGIN:VEVENT
DTSTART;TZID=America/Chicago:20230312T150000
DTEND;TZID=America/Chicago:20230312T160000
DTSTAMP:20260419T195945
CREATED:20230201T225244Z
LAST-MODIFIED:20230314T162515Z
UID:2947-1678633200-1678636800@hinsdale.church
SUMMARY:Requiem For the Living
DESCRIPTION:Redeemer Lutheran Church and The Union Church of Hinsdale are excited to present Dan Forrest’s Requiem for the Living on March 12 at 3:00 p.m. in the sanctuary of The Union Church of Hinsdale. “Requiem for the Living” contains five movements\, each containing gripping texts and melodies. Traditionally\, a requiem is a prayer for rest for the deceased. However\, in Dan Forrest’s innovative work\, this prayer becomes a plea for rest for those who are struggling through pain in this life and then guides the listener to hope of peace and rest. From movement to movement\, one can feel the sincerity presented in this beautiful composition. The final movement\, “Lux Aeterna\,” is a satisfying end to “Requiem for the Living.” The lyrics offer a reminder of Christ’s words to the suffering: “Come unto me all ye who labor and are heavy laden\, and I will give you rest.” The ending offers peace and hope for the future. \nClick here for the flyer for the event.
URL:https://hinsdale.church/anevent/requiem-for-the-living/
LOCATION:Union Church of Hinsdale\, 137 S Garfield Ave.\, Hinsdale\, IL\, 60521\, United States
CATEGORIES:Community,Event
ORGANIZER;CN="Union Church of Hinsdale":MAILTO:union@uchinsdale.org
END:VEVENT
BEGIN:VEVENT
DTSTART;TZID=America/Chicago:20230308T160000
DTEND;TZID=America/Chicago:20230308T183000
DTSTAMP:20260419T195945
CREATED:20230201T224016Z
LAST-MODIFIED:20230201T225401Z
UID:2944-1678291200-1678300200@hinsdale.church
SUMMARY:Gather + Grow Youth Group
DESCRIPTION:For questions and registration\, please contact Penny (pjohnson@uchinsdale.org) or Grant (gglowiak@uchinsdale.org). \nGrades 2/3/4/5 4:00 p.m. to 5:30 p.m. with snack\nGrades 6/7/8: 4:00 p.m. to 6:30 p.m. with dinner (or anytime within that time frame)
URL:https://hinsdale.church/anevent/gather-grow-youth-group-10/
LOCATION:Union Church of Hinsdale\, 137 S Garfield Ave.\, Hinsdale\, IL\, 60521\, United States
CATEGORIES:Community,Event
END:VEVENT
BEGIN:VEVENT
DTSTART;TZID=America/Chicago:20230306T113000
DTEND;TZID=America/Chicago:20230306T123000
DTSTAMP:20260419T195945
CREATED:20230216T183638Z
LAST-MODIFIED:20230216T183638Z
UID:2981-1678102200-1678105800@hinsdale.church
SUMMARY:Lenten Bible Study/Sermon Talk Back
DESCRIPTION:Every Monday during Lent we will meet on ZOOM to discuss our thoughts on the 10:00 a.m. Sermon Series “Seven Last Words” … centering ourselves on these\, the last sentiments of Jesus Christ in his final moments. \nEveryone welcome! RSVP by emailing union@uchinsdale.org.
URL:https://hinsdale.church/anevent/lenten-bible-study-sermon-talk-back-2/
LOCATION:Union Church of Hinsdale\, 137 S Garfield Ave.\, Hinsdale\, IL\, 60521\, United States
CATEGORIES:Community,Event
END:VEVENT
BEGIN:VEVENT
DTSTART;TZID=America/Chicago:20230301T160000
DTEND;TZID=America/Chicago:20230301T183000
DTSTAMP:20260419T195945
CREATED:20230201T223958Z
LAST-MODIFIED:20230201T225352Z
UID:2943-1677686400-1677695400@hinsdale.church
SUMMARY:Gather + Grow Youth Group
DESCRIPTION:For questions and registration\, please contact Penny (pjohnson@uchinsdale.org) or Grant (gglowiak@uchinsdale.org). \nGrades 2/3/4/5 4:00 p.m. to 5:30 p.m. with snack\nGrades 6/7/8: 4:00 p.m. to 6:30 p.m. with dinner (or anytime within that time frame)
URL:https://hinsdale.church/anevent/gather-grow-youth-group-9/
LOCATION:Union Church of Hinsdale\, 137 S Garfield Ave.\, Hinsdale\, IL\, 60521\, United States
CATEGORIES:Community,Event
END:VEVENT
BEGIN:VEVENT
DTSTART;VALUE=DATE:20230301
DTEND;VALUE=DATE:20230302
DTSTAMP:20260419T195945
CREATED:20230302T153526Z
LAST-MODIFIED:20230321T172628Z
UID:3002-1677628800-1677715199@hinsdale.church
SUMMARY:March Madness for Charity
DESCRIPTION:Do you have what it takes to be the UCH March Madness Champion? \nHere’s how it works:\n1. If you don’t have an ESPN profile\, make one first. It’s free.\n2. Then go to https://fantasy.espn.com/tournament-challenge-bracket/2023/en/\n3. Click on ‘join group’ – our group name is ‘Union Church 2023’ and our password is ‘UCH137’\n4. Fill out your bracket after Selection Sunday (March 12th) but before the first game on Thursday\, March 16th.\n5. Give me\, grant\, $20 in cash or Venmo me – @Grant-Glowiak \nIf you don’t want to do it electronically\, get me a paper bracket filled out by Wednesday March 15th so I can enter it digitally and I’ll track it for you.\nThe winner gets to direct all the money in the pot to any outreach activity related to Union Church. This can be a mission partner such as The Night Ministry or The Boulevard\, it can provide scholarship money for work tours or UCECP\, it can go to the UCECI project\, or to the wide array of things we have going on in Angola just as a few examples.
URL:https://hinsdale.church/anevent/march-madness-for-charity/
LOCATION:IL
CATEGORIES:Community,Event
END:VEVENT
BEGIN:VEVENT
DTSTART;TZID=America/Chicago:20230227T113000
DTEND;TZID=America/Chicago:20230227T123000
DTSTAMP:20260419T195945
CREATED:20230216T183605Z
LAST-MODIFIED:20230216T183605Z
UID:2980-1677497400-1677501000@hinsdale.church
SUMMARY:Lenten Bible Study/Sermon Talk Back
DESCRIPTION:Every Monday during Lent we will meet on ZOOM to discuss our thoughts on the 10:00 a.m. Sermon Series “Seven Last Words” … centering ourselves on these\, the last sentiments of Jesus Christ in his final moments. \nEveryone welcome! RSVP by emailing union@uchinsdale.org.
URL:https://hinsdale.church/anevent/lenten-bible-study-sermon-talk-back/
LOCATION:Union Church of Hinsdale\, 137 S Garfield Ave.\, Hinsdale\, IL\, 60521\, United States
CATEGORIES:Community,Event
END:VEVENT
BEGIN:VEVENT
DTSTART;TZID=America/Chicago:20230226T111500
DTEND;TZID=America/Chicago:20230226T123000
DTSTAMP:20260419T195945
CREATED:20230201T222849Z
LAST-MODIFIED:20230207T201051Z
UID:2933-1677410100-1677414600@hinsdale.church
SUMMARY:Being Catholic at Union Church
DESCRIPTION:Feb 26 11:15-12:30 in Rowell Hall \nWhat do we believe?\nMany of our members at UCH were raised Catholic\, and some still consider themselves Catholic (at least in some ways). What does that mean as a person of faith who worships here at Union? Reverend Mike will lead these sessions on that very topic. These sessions are intended for those who consider themselves Catholic in some way\, those who are curious about getting more involved at UCH even though they have a Catholic background\, or just anyone curious and wanting to learn more!
URL:https://hinsdale.church/anevent/being-catholic-at-union-church-2/
LOCATION:Union Church of Hinsdale\, 137 S Garfield Ave.\, Hinsdale\, IL\, 60521\, United States
CATEGORIES:Community,Event
END:VEVENT
BEGIN:VEVENT
DTSTART;TZID=America/Chicago:20230222T160000
DTEND;TZID=America/Chicago:20230222T183000
DTSTAMP:20260419T195945
CREATED:20230201T223938Z
LAST-MODIFIED:20230207T200316Z
UID:2942-1677081600-1677090600@hinsdale.church
SUMMARY:Gather + Grow Youth Group
DESCRIPTION:For questions and registration\, please contact Penny (pjohnson@uchinsdale.org) or Grant (gglowiak@uchinsdale.org). \nGrades 2/3/4/5 4:00 p.m. to 5:30 p.m. with snack\nGrades 6/7/8: 4:00 p.m. to 6:30 p.m. with dinner (or anytime within that time frame)
URL:https://hinsdale.church/anevent/gather-grow-youth-group-8/
LOCATION:Union Church of Hinsdale\, 137 S Garfield Ave.\, Hinsdale\, IL\, 60521\, United States
CATEGORIES:Community,Event
END:VEVENT
END:VCALENDAR