BEGIN:VCALENDAR
VERSION:2.0
PRODID:-//Union Church of Hinsdale - ECPv6.15.18//NONSGML v1.0//EN
CALSCALE:GREGORIAN
METHOD:PUBLISH
X-ORIGINAL-URL:https://hinsdale.church
X-WR-CALDESC:Events for Union Church of Hinsdale
REFRESH-INTERVAL;VALUE=DURATION:PT1H
X-Robots-Tag:noindex
X-PUBLISHED-TTL:PT1H
BEGIN:VTIMEZONE
TZID:America/Chicago
BEGIN:DAYLIGHT
TZOFFSETFROM:-0600
TZOFFSETTO:-0500
TZNAME:CDT
DTSTART:20210314T080000
END:DAYLIGHT
BEGIN:STANDARD
TZOFFSETFROM:-0500
TZOFFSETTO:-0600
TZNAME:CST
DTSTART:20211107T070000
END:STANDARD
BEGIN:DAYLIGHT
TZOFFSETFROM:-0600
TZOFFSETTO:-0500
TZNAME:CDT
DTSTART:20220313T080000
END:DAYLIGHT
BEGIN:STANDARD
TZOFFSETFROM:-0500
TZOFFSETTO:-0600
TZNAME:CST
DTSTART:20221106T070000
END:STANDARD
BEGIN:DAYLIGHT
TZOFFSETFROM:-0600
TZOFFSETTO:-0500
TZNAME:CDT
DTSTART:20230312T080000
END:DAYLIGHT
BEGIN:STANDARD
TZOFFSETFROM:-0500
TZOFFSETTO:-0600
TZNAME:CST
DTSTART:20231105T070000
END:STANDARD
BEGIN:DAYLIGHT
TZOFFSETFROM:-0600
TZOFFSETTO:-0500
TZNAME:CDT
DTSTART:20240310T080000
END:DAYLIGHT
BEGIN:STANDARD
TZOFFSETFROM:-0500
TZOFFSETTO:-0600
TZNAME:CST
DTSTART:20241103T070000
END:STANDARD
END:VTIMEZONE
BEGIN:VEVENT
DTSTART;TZID=America/Chicago:20230219T140000
DTEND;TZID=America/Chicago:20230219T153000
DTSTAMP:20260419T214219
CREATED:20230201T230033Z
LAST-MODIFIED:20230215T231708Z
UID:2949-1676815200-1676820600@hinsdale.church
SUMMARY:Journey to Angola
DESCRIPTION:Informational Meeting on Feb 19\, 2:00 p.m.\, Zoom Trip dates: Aug 8- 22 \nThis August\, a group from UCH will journey to Angola to visit our sister church in Huambo\, including Rev. Moma!. You can find the link in the weekly email! \nWe last visited in January of 2020\, just before the pandemic began\, & it was an amazing trip for all. We felt truly blessed to get to know our siblings in Christ\, and find out what it means to live as a Christian in a very different context. \nThis is a relationship building trip\, and there will be ample time to get to know our hosts\, & learn about all aspects of life in Angola – including staying in the homes of our church partners. For a brief introduction to what the trip will entail\, see the link in the weekly email for an information sheet.
URL:https://hinsdale.church/anevent/journey-to-angola/
CATEGORIES:Community,Event
END:VEVENT
BEGIN:VEVENT
DTSTART;TZID=America/Chicago:20230215T160000
DTEND;TZID=America/Chicago:20230215T183000
DTSTAMP:20260419T214219
CREATED:20230201T223921Z
LAST-MODIFIED:20230201T225421Z
UID:2941-1676476800-1676485800@hinsdale.church
SUMMARY:Gather + Grow Youth Group
DESCRIPTION:For questions and registration\, please contact Penny (pjohnson@uchinsdale.org) or Grant (gglowiak@uchinsdale.org). \nGrades 2/3/4/5 4:00 p.m. to 5:30 p.m. with snack\nGrades 6/7/8: 4:00 p.m. to 6:30 p.m. with dinner (or anytime within that time frame)
URL:https://hinsdale.church/anevent/gather-grow-youth-group-7/
LOCATION:Union Church of Hinsdale\, 137 S Garfield Ave.\, Hinsdale\, IL\, 60521\, United States
CATEGORIES:Community,Event
END:VEVENT
BEGIN:VEVENT
DTSTART;VALUE=DATE:20230215
DTEND;VALUE=DATE:20230216
DTSTAMP:20260419T214219
CREATED:20230215T231947Z
LAST-MODIFIED:20230302T153619Z
UID:2973-1676419200-1676505599@hinsdale.church
SUMMARY:Syria/Turkey Earthquake Relief
DESCRIPTION:Disaster assistance can’t undo the tragedy\, but it can – we can – in some small way help share the terrible burden. \nThrough its established disaster relief channels\, the United Church of Christ will be sending aid. There are many good ways to give\, and we assure you this is one of them. As Union Church\, we are collecting an offering directly\, and then we will send 100% of those gifts to those in need through the UCC. \nClick here to give now. Be sure to select “Earthquake Relief” in the drop-down menu. \nAlthough millions of lives will never be the same\, it is good to express our unity with fellow children of God in a dire situation. Our gifts show that we truly understand that we belong to each other. \nAgain\, click here to give now\, and be sure to select “Earthquake Relief” in the drop-down menu.
URL:https://hinsdale.church/anevent/syria-turkey-earthquake-relief/
LOCATION:Union Church of Hinsdale\, 137 S Garfield Ave.\, Hinsdale\, IL\, 60521\, United States
CATEGORIES:Community,Event
END:VEVENT
BEGIN:VEVENT
DTSTART;TZID=America/Chicago:20230212T111500
DTEND;TZID=America/Chicago:20230212T123000
DTSTAMP:20260419T214219
CREATED:20230131T215231Z
LAST-MODIFIED:20230201T222911Z
UID:2923-1676200500-1676205000@hinsdale.church
SUMMARY:Being Catholic at Union Church
DESCRIPTION:Feb 12 11:15-12:30 in Rowell Hall \nWhat do we believe?\nMany of our members at UCH were raised Catholic\, and some still consider themselves Catholic (at least in some ways). What does that mean as a person of faith who worships here at Union? Reverend Mike will lead these sessions on that very topic. These sessions are intended for those who consider themselves Catholic in some way\, those who are curious about getting more involved at UCH even though they have a Catholic background\, or just anyone curious and wanting to learn more!
URL:https://hinsdale.church/anevent/being-catholic-at-union-church/
LOCATION:Union Church of Hinsdale\, 137 S Garfield Ave.\, Hinsdale\, IL\, 60521\, United States
CATEGORIES:Community,Event
END:VEVENT
BEGIN:VEVENT
DTSTART;TZID=America/Chicago:20230208T160000
DTEND;TZID=America/Chicago:20230208T183000
DTSTAMP:20260419T214219
CREATED:20230201T223837Z
LAST-MODIFIED:20230201T225429Z
UID:2940-1675872000-1675881000@hinsdale.church
SUMMARY:Gather + Grow Youth Group
DESCRIPTION:For questions and registration\, please contact Penny (pjohnson@uchinsdale.org) or Grant (gglowiak@uchinsdale.org). \nGrades 2/3/4/5 4:00 p.m. to 5:30 p.m. with snack\nGrades 6/7/8: 4:00 p.m. to 6:30 p.m. with dinner (or anytime within that time frame)
URL:https://hinsdale.church/anevent/gather-grow-youth-group-6/
LOCATION:Union Church of Hinsdale\, 137 S Garfield Ave.\, Hinsdale\, IL\, 60521\, United States
CATEGORIES:Community,Event
END:VEVENT
BEGIN:VEVENT
DTSTART;TZID=America/Chicago:20230201T160000
DTEND;TZID=America/Chicago:20230201T183000
DTSTAMP:20260419T214219
CREATED:20230201T223820Z
LAST-MODIFIED:20230201T225305Z
UID:2939-1675267200-1675276200@hinsdale.church
SUMMARY:Gather + Grow Youth Group
DESCRIPTION:For questions and registration\, please contact Penny (pjohnson@uchinsdale.org) or Grant (gglowiak@uchinsdale.org). \nGrades 2/3/4/5 4:00 p.m. to 5:30 p.m. with snack\nGrades 6/7/8: 4:00 p.m. to 6:30 p.m. with dinner (or anytime within that time frame)
URL:https://hinsdale.church/anevent/gather-grow-youth-group-5/
LOCATION:Union Church of Hinsdale\, 137 S Garfield Ave.\, Hinsdale\, IL\, 60521\, United States
CATEGORIES:Community,Event
END:VEVENT
BEGIN:VEVENT
DTSTART;TZID=America/Chicago:20230128T143000
DTEND;TZID=America/Chicago:20230128T160000
DTSTAMP:20260419T214219
CREATED:20221228T222419Z
LAST-MODIFIED:20230131T214551Z
UID:2904-1674916200-1674921600@hinsdale.church
SUMMARY:Union Church Concert Series: Elmhurst Symphony Orchestra Concert
DESCRIPTION:If you’re looking to be dazzled at every turn\, this is the concert for you! A concerto (pronounced con-CHAIR-toe) is a piece of music written for soloist(s) accompanied by an orchestra or other ensemble. Basically\, it’s a chance for a virtuoso musician to show off what they can do while the rest of the orchestra backs them up\, and this ConcertoFest! is packed with virtuoso soloists.
URL:https://hinsdale.church/anevent/the-uch-concert-series-elmhurst-symphony/
LOCATION:Union Church of Hinsdale\, 137 S Garfield Ave.\, Hinsdale\, IL\, 60521\, United States
CATEGORIES:Community,Event
END:VEVENT
BEGIN:VEVENT
DTSTART;TZID=America/Chicago:20230125T160000
DTEND;TZID=America/Chicago:20230125T183000
DTSTAMP:20260419T214219
CREATED:20230201T223802Z
LAST-MODIFIED:20230201T224341Z
UID:2938-1674662400-1674671400@hinsdale.church
SUMMARY:Gather + Grow Youth Group
DESCRIPTION:For questions and registration\, please contact Penny (pjohnson@uchinsdale.org) or Grant (gglowiak@uchinsdale.org). \nGrades 2/3/4/5 4:00 p.m. to 5:30 p.m. with snack\nGrades 6/7/8: 4:00 p.m. to 6:30 p.m. with dinner (or anytime within that time frame)
URL:https://hinsdale.church/anevent/gather-grow-youth-group-4/
LOCATION:Union Church of Hinsdale\, 137 S Garfield Ave.\, Hinsdale\, IL\, 60521\, United States
CATEGORIES:Community,Event
END:VEVENT
BEGIN:VEVENT
DTSTART;TZID=America/Chicago:20230125T160000
DTEND;TZID=America/Chicago:20230125T183000
DTSTAMP:20260419T214219
CREATED:20230201T223723Z
LAST-MODIFIED:20230201T224337Z
UID:2937-1674662400-1674671400@hinsdale.church
SUMMARY:Gather + Grow Youth Group
DESCRIPTION:For questions and registration\, please contact Penny (pjohnson@uchinsdale.org) or Grant (gglowiak@uchinsdale.org). \nGrades 2/3/4/5 4:00 p.m. to 5:30 p.m. with snack\nGrades 6/7/8: 4:00 p.m. to 6:30 p.m. with dinner (or anytime within that time frame)
URL:https://hinsdale.church/anevent/gather-grow-youth-group-3/
LOCATION:Union Church of Hinsdale\, 137 S Garfield Ave.\, Hinsdale\, IL\, 60521\, United States
CATEGORIES:Community,Event
END:VEVENT
BEGIN:VEVENT
DTSTART;TZID=America/Chicago:20230118T160000
DTEND;TZID=America/Chicago:20230118T183000
DTSTAMP:20260419T214219
CREATED:20230201T223702Z
LAST-MODIFIED:20230201T224333Z
UID:2936-1674057600-1674066600@hinsdale.church
SUMMARY:Gather + Grow Youth Group
DESCRIPTION:For questions and registration\, please contact Penny (pjohnson@uchinsdale.org) or Grant (gglowiak@uchinsdale.org). \nGrades 2/3/4/5 4:00 p.m. to 5:30 p.m. with snack\nGrades 6/7/8: 4:00 p.m. to 6:30 p.m. with dinner (or anytime within that time frame)
URL:https://hinsdale.church/anevent/gather-grow-youth-group-2/
LOCATION:Union Church of Hinsdale\, 137 S Garfield Ave.\, Hinsdale\, IL\, 60521\, United States
CATEGORIES:Community,Event
END:VEVENT
BEGIN:VEVENT
DTSTART;TZID=America/Chicago:20230111T190000
DTEND;TZID=America/Chicago:20230111T190000
DTSTAMP:20260419T214219
CREATED:20230104T231233Z
LAST-MODIFIED:20230112T220708Z
UID:2906-1673463600-1673463600@hinsdale.church
SUMMARY:Chancel Choir Open House
DESCRIPTION:Do you love to sing? Come give Chancel Choir a try — our open house is scheduled for January 11. We will start in the Close at 7:00 p.m. with snacks and then move into a rehearsal at 7:30 p.m. in the choir room. If you have ever been even slightly curious about singing with these fun\, amazing\, and loving people\, we will see you on January 11!!
URL:https://hinsdale.church/anevent/chancel-choir-open-house/
LOCATION:Union Church of Hinsdale\, 137 S Garfield Ave.\, Hinsdale\, IL\, 60521\, United States
CATEGORIES:Community,Event
END:VEVENT
BEGIN:VEVENT
DTSTART;TZID=America/Chicago:20230111T160000
DTEND;TZID=America/Chicago:20230111T183000
DTSTAMP:20260419T214219
CREATED:20221228T222312Z
LAST-MODIFIED:20230201T224350Z
UID:2903-1673452800-1673461800@hinsdale.church
SUMMARY:Gather + Grow Youth Group
DESCRIPTION:For questions and registration\, please contact Penny (pjohnson@uchinsdale.org) or Grant (gglowiak@uchinsdale.org). \nGrades 2/3/4/5 4:00 p.m. to 5:30 p.m. with snack\nGrades 6/7/8: 4:00 p.m. to 6:30 p.m. with dinner (or anytime within that time frame)
URL:https://hinsdale.church/anevent/gather-grow-youth-group/
LOCATION:Union Church of Hinsdale\, 137 S Garfield Ave.\, Hinsdale\, IL\, 60521\, United States
CATEGORIES:Community,Event
END:VEVENT
BEGIN:VEVENT
DTSTART;TZID=America/Chicago:20221224T160000
DTEND;TZID=America/Chicago:20221224T160000
DTSTAMP:20260419T214219
CREATED:20221115T223319Z
LAST-MODIFIED:20221228T221845Z
UID:2872-1671897600-1671897600@hinsdale.church
SUMMARY:Children’s Christmas Pageant
DESCRIPTION:
URL:https://hinsdale.church/anevent/childrens-christmas-pageant/
LOCATION:Union Church of Hinsdale\, 137 S Garfield Ave.\, Hinsdale\, IL\, 60521\, United States
CATEGORIES:Community,Event
END:VEVENT
BEGIN:VEVENT
DTSTART;VALUE=DATE:20221224
DTEND;VALUE=DATE:20221225
DTSTAMP:20260419T214219
CREATED:20221115T223642Z
LAST-MODIFIED:20221228T221852Z
UID:2873-1671840000-1671926399@hinsdale.church
SUMMARY:Christmas Eve Services
DESCRIPTION:4:00 p.m. Children’s Christmas Pageant\, in the Sanctuary \n6:30 p.m. Carols and Candlelight\, in the Close/Courtyard \n7:15 p.m. Cider and Hot Chocolate\, in the Gathering Place \n7:40 p.m. Alumni Bell Choir\, in the Sanctuary \n8:00 p.m. Christmas Eve Service\, in the Sanctuary
URL:https://hinsdale.church/anevent/christmas-eve-services/
LOCATION:Union Church of Hinsdale\, 137 S Garfield Ave.\, Hinsdale\, IL\, 60521\, United States
CATEGORIES:Community,Event,Worship
END:VEVENT
BEGIN:VEVENT
DTSTART;TZID=America/Chicago:20221214T170000
DTEND;TZID=America/Chicago:20221214T170000
DTSTAMP:20260419T214219
CREATED:20221130T210843Z
LAST-MODIFIED:20221130T210843Z
UID:2886-1671037200-1671037200@hinsdale.church
SUMMARY:Christmas Caroling with the Youth Group
DESCRIPTION:Welcome to anyone in the congregation
URL:https://hinsdale.church/anevent/christmas-caroling-with-the-youth-group/
LOCATION:Union Church of Hinsdale\, 137 S Garfield Ave.\, Hinsdale\, IL\, 60521\, United States
CATEGORIES:Community,Event
END:VEVENT
BEGIN:VEVENT
DTSTART;VALUE=DATE:20221213
DTEND;VALUE=DATE:20230102
DTSTAMP:20260419T214219
CREATED:20221214T151152Z
LAST-MODIFIED:20230104T231054Z
UID:2895-1670889600-1672617599@hinsdale.church
SUMMARY:The Christmas Offering – “The Boulevard of Chicago”
DESCRIPTION:This year’s Christmas Offering will support The Boulevard of Chicago\, one of the mission partners we work with throughout the year. The Boulevard provides residential care for homeless men and women in medical recovery. This 44-bed center on Chicago’s west side offers interim housing and support to ill and injured homeless adults. Residents are provided services to enable them to transition to independent living. \nTo make an online gift\, go the church website and under the drop-down menu choose “Christmas Offering – The Boulevard.” This year\, we have anonymous donors who will generously match gifts up to $10\,000. Let’s take up their challenge! Thank you for your generosity and support. If you have any questions\, please contact knightdm52@gmail.com.
URL:https://hinsdale.church/anevent/the-christmas-offering-the-boulevard-of-chicago/
CATEGORIES:Community,Event
END:VEVENT
BEGIN:VEVENT
DTSTART;TZID=America/Chicago:20221207T164500
DTEND;TZID=America/Chicago:20221207T180000
DTSTAMP:20260419T214219
CREATED:20221108T181759Z
LAST-MODIFIED:20221201T220156Z
UID:2860-1670431500-1670436000@hinsdale.church
SUMMARY:Eleanor’s Christmas Stockings
DESCRIPTION:
URL:https://hinsdale.church/anevent/eleanors-christmas-stockings/
LOCATION:Union Church of Hinsdale\, 137 S Garfield Ave.\, Hinsdale\, IL\, 60521\, United States
CATEGORIES:Community
END:VEVENT
BEGIN:VEVENT
DTSTART;TZID=America/Chicago:20221207T164500
DTEND;TZID=America/Chicago:20221207T164500
DTSTAMP:20260419T214219
CREATED:20221130T211020Z
LAST-MODIFIED:20221201T220243Z
UID:2887-1670431500-1670431500@hinsdale.church
SUMMARY:Eleanor’s Christmas Stocking Stuffing Project with the Youth Group
DESCRIPTION:and anyone else in the congregation\, in the Chapel.
URL:https://hinsdale.church/anevent/eleanors-christmas-stocking-stuffing-project-with-the-youth-group/
LOCATION:Union Church of Hinsdale\, 137 S Garfield Ave.\, Hinsdale\, IL\, 60521\, United States
CATEGORIES:Community,Event
END:VEVENT
BEGIN:VEVENT
DTSTART;TZID=America/Chicago:20221203T083000
DTEND;TZID=America/Chicago:20221203T233000
DTSTAMP:20260419T214219
CREATED:20221115T223049Z
LAST-MODIFIED:20221214T150749Z
UID:2869-1670056200-1670110200@hinsdale.church
SUMMARY:Rudolph’s Boutique
DESCRIPTION:a Children’s Shopping experience
URL:https://hinsdale.church/anevent/rudolphs-boutique/
LOCATION:Union Church of Hinsdale\, 137 S Garfield Ave.\, Hinsdale\, IL\, 60521\, United States
CATEGORIES:Community,Event
END:VEVENT
BEGIN:VEVENT
DTSTART;TZID=America/Chicago:20221016T111500
DTEND;TZID=America/Chicago:20221016T123000
DTSTAMP:20260419T214219
CREATED:20221005T153539Z
LAST-MODIFIED:20221031T164355Z
UID:2830-1665918900-1665923400@hinsdale.church
SUMMARY:Adult Ed Series on Kindness
DESCRIPTION:Save the date for a 3-part Adult Education series focused on kindness as an accompaniment to our fall sermon series. October 16\, 23 and 30 right after the 10:00 service (11:15 – 12:30). This 3-part conversation will be based on the Ted Talks and book by Jamil Zaki\, The War for Kindness: Building Empathy in Fractured World. \nThe book will be available for purchase in the church office\, and links for the Ted Talks will be sent out ahead of the discussion.
URL:https://hinsdale.church/anevent/adult-ed-series-on-kindness/
LOCATION:Union Church of Hinsdale\, 137 S Garfield Ave.\, Hinsdale\, IL\, 60521\, United States
CATEGORIES:Community,Event
END:VEVENT
BEGIN:VEVENT
DTSTART;TZID=America/Chicago:20221012T120000
DTEND;TZID=America/Chicago:20221012T140000
DTSTAMP:20260419T214219
CREATED:20221005T152722Z
LAST-MODIFIED:20221014T204515Z
UID:2828-1665576000-1665583200@hinsdale.church
SUMMARY:The Men’s Club of Union Church Luncheon
DESCRIPTION:Dining Room \nUnintended Impact \nJim Proebstle tells the story of his brother\, Dick’s\, journey from concussions in amateur football to CTE dementia. Chronic Traumatic Encephalopathy (CTE) is a progressive brain condition thought to be caused by repeated blows to the head. \nJim’s first two novels (Unintended Impact and Fatal Incident) have received outstanding reviews from readers and industry professionals. They have been recognized with awards\, including the Eric Hoffer Award\, the Indie Book Award\, and the International Book Award. \nOur speaker received his BA and MBA from Michigan State University and was honored as an outstanding alumni from the Eli Broad College of Business in 2001. He played on a National Championship football team in 1965 and earned academic honors. \nPlease invite spouses\, friends and acquaintances. All women are invited. \nAs always\, a delicious $10.00 lunch will be served prior to the program. If you have not made a reservation with your caller\, please make one by calling the church office\, 630-323-4303 ext. 6652\, no later than Monday morning\, October 10\, 2022.
URL:https://hinsdale.church/anevent/the-mens-club-of-union-church-luncheon/
LOCATION:Union Church of Hinsdale\, 137 S Garfield Ave.\, Hinsdale\, IL\, 60521\, United States
CATEGORIES:Community,Event,Old
END:VEVENT
BEGIN:VEVENT
DTSTART;TZID=America/Chicago:20220910T173000
DTEND;TZID=America/Chicago:20220910T213000
DTSTAMP:20260419T214219
CREATED:20220806T153343Z
LAST-MODIFIED:20221005T154709Z
UID:2799-1662831000-1662845400@hinsdale.church
SUMMARY:Around the World All-Church Fundraiser
DESCRIPTION:Get ready for our bi-annual fundraiser!! We are changing things up this year and having a party at our beautiful church. All are welcome to attend – including children. Our theme is “Around the World.” Plan on fun\, delicious food\, great music and live and silent auction items.\n\nNow that you’ve marked your calendar for this amazing all-ages event\, it is time to start thinking about what you have to offer for the live and silent auctions.\n\nSharing experiences and items will add to church funds and also the fun! Give what you have or what you know. Put a package together!\n\nTo get your creative juices flowing\, consider the suggestions on the list below.\n\nHave your idea ready or want to check it out? Contact Mary Sue Honigschmidt or Sharon Olsen.\n\n\n\n\n\n\n\n\n\n\n\n\n\n\n\n\n\n\n\n\n\n\n\n\n\n\n\n\n\n\n\nTickets to the zoo\nBulls tickets\nSpa experience\nFlower arrangement\nMorton Arboretum experience\nTito’s basket\nHeadphones\nTheater tickets\nSymphony and dinner\nHotel weekend\nBoat ride\nBooks\nA class you teach\nFitness class/trainer\n\n\n\n\n\n\n\n\n\n\n\n\n\n\n\n\n\n\n\nCooking Lessons\nGet away places\nRestaurant certificate\nWine tasting party\nTour a famous place\nSpecial dinner in your home\nPrivate concert\nVoice lessons\nYoga lessons\nDessert each quarter\nFiretruck ride\nPolice ride along\nMassages\nParty at your home
URL:https://hinsdale.church/anevent/around-the-world-all-church-fundraiser/
LOCATION:Union Church of Hinsdale\, 137 S Garfield Ave.\, Hinsdale\, IL\, 60521\, United States
CATEGORIES:Community,Event
END:VEVENT
BEGIN:VEVENT
DTSTART;TZID=America/Chicago:20220828T183000
DTEND;TZID=America/Chicago:20220828T203000
DTSTAMP:20260419T214219
CREATED:20220806T143244Z
LAST-MODIFIED:20220831T152845Z
UID:2806-1661711400-1661718600@hinsdale.church
SUMMARY:Back-to-School Bonfire
DESCRIPTION:2nd through 12th graders\, join us in the Courtyard/Close to make s’mores and talk about how the first week of school went (for those who have already started by then)!
URL:https://hinsdale.church/anevent/back-to-school-bonfire/
LOCATION:Union Church of Hinsdale\, 137 S Garfield Ave.\, Hinsdale\, IL\, 60521\, United States
CATEGORIES:Community,Event,Old
ATTACH;FMTTYPE=image/jpeg:https://hinsdale.church/wp-content/uploads/2022/08/bonfire-scaled.jpg
END:VEVENT
BEGIN:VEVENT
DTSTART;TZID=America/Chicago:20220814T150000
DTEND;TZID=America/Chicago:20220814T170000
DTSTAMP:20260419T214219
CREATED:20220713T201652Z
LAST-MODIFIED:20220831T152918Z
UID:2793-1660489200-1660496400@hinsdale.church
SUMMARY:La Bonne Chanson - Recital
DESCRIPTION:Stephen C Edwards\, tenor and Dana Brown\, piano will present a concert of the “most joyful song cycle ever written” by Gabriel Fauré\, “La Bonne Chanson\,” Sunday\, August 14 at 3:00 p.m. Additionally\, Stephen will sing 7 of the 36 selections by Franz Haydn that he and Dana will be recording for the Lexicon Classics Recording Label in November. This festive concert will finish up with songs about pianos including “I love a Piano” by Irving Berlin! For the Haydn pieces\, we will be joined by violinist\, Ilana Setapen and cellist\, David Sands.  The concert promises to be no more than one hour and will fill your heart with joy.  I cannot tell you how excited  I am to share this music with you! \nPlease see the attached flyer here.
URL:https://hinsdale.church/anevent/la-bonne-chanson-concert/
LOCATION:Union Church of Hinsdale\, 137 S Garfield Ave.\, Hinsdale\, IL\, 60521\, United States
CATEGORIES:Community,Old
END:VEVENT
BEGIN:VEVENT
DTSTART;TZID=America/Chicago:20220623T174500
DTEND;TZID=America/Chicago:20220623T210000
DTSTAMP:20260419T214219
CREATED:20220531T123438Z
LAST-MODIFIED:20220713T201354Z
UID:2786-1656006300-1656018000@hinsdale.church
SUMMARY:Church Outing to Uniquely Thursday!
DESCRIPTION:A staple of Hinsdale summer is celebrating its 20th year. Uniquely Thursday is a weekly festival with food trucks\, live music and camaraderie in Burlington Park near the Memorial Building and train station in downtown Hinsdale. Our church is the perfect location to meet up with each other and enjoy this time together. Park and meet up at church at 5:45 p.m. (north-side parking lot) and we’ll walk down to Uniquely Thursday together. This is a great way for new members and their mentors to meet\, as well as for friends in our congregation of all ages to spend time together. Uniquely Thursday begins at 6:00 p.m. at Burlington Park in Hinsdale. Bring your own picnic blanket or folding chair. If we miss you at the church parking lot\, we’ll see you down there at the park!
URL:https://hinsdale.church/anevent/church-outing-to-uniquely-thursday/
CATEGORIES:Community,Old
END:VEVENT
BEGIN:VEVENT
DTSTART;TZID=America/Chicago:20220612T150000
DTEND;TZID=America/Chicago:20220612T163000
DTSTAMP:20260419T214219
CREATED:20220531T123322Z
LAST-MODIFIED:20220713T201305Z
UID:2787-1655046000-1655051400@hinsdale.church
SUMMARY:Steinway Dedication Concert
DESCRIPTION:Featuring our very own Stephen Uhl\, this concert has been specially curated to show the depth\, versatility\, and resplendent beauty of our new Steinway. Composers include Bach\, Liszt\, and Joosten. – 3:00 p.m. Please see our flyer\, and share with family and friends!
URL:https://hinsdale.church/anevent/steinway-dedication-concert/
CATEGORIES:Community,Old
END:VEVENT
BEGIN:VEVENT
DTSTART;TZID=America/Chicago:20220517T190000
DTEND;TZID=America/Chicago:20220517T200000
DTSTAMP:20260419T214219
CREATED:20220505T153725Z
LAST-MODIFIED:20220518T225439Z
UID:2776-1652814000-1652817600@hinsdale.church
SUMMARY:Christian Education: Fall Adult Ed
DESCRIPTION:We are the thinking church after all. Based on the positive feedback from our spring Adult Ed series\, we can sense this smart\, engaged and thinking congregation has an appetite for more Adult Ed. We plan to discuss our fall programming and ideas at our May Christian Education meeting. Anyone who would like to be part of this conversation or help organize is welcome to join our meeting at 7pm in Helen Hall.
URL:https://hinsdale.church/anevent/christian-education-fall-adult-ed/
LOCATION:Union Church of Hinsdale\, 137 S Garfield Ave.\, Hinsdale\, IL\, 60521\, United States
CATEGORIES:Community
END:VEVENT
BEGIN:VEVENT
DTSTART;TZID=America/Chicago:20220515T111500
DTEND;TZID=America/Chicago:20220515T121500
DTSTAMP:20260419T214219
CREATED:20220503T153824Z
LAST-MODIFIED:20220518T225425Z
UID:2777-1652613300-1652616900@hinsdale.church
SUMMARY:Women of a Certain Age
DESCRIPTION:Jackie McGrury\, an independent esthetician\, will discuss proper skin care and that May is National Melanoma Month. Jackie has her own salon in Orland Park.\n\nThe purpose of WOACA is for fellowship\, friendship\, and fun. We will sit socially distanced and no food/beverages will be served. For more information please email Melissa Barnes Mann. ALL are welcome and encouraged to attend! We will meet in Rowell Hall.
URL:https://hinsdale.church/anevent/women-of-a-certain-age-2/
LOCATION:Union Church of Hinsdale\, 137 S Garfield Ave.\, Hinsdale\, IL\, 60521\, United States
CATEGORIES:Community,Event
END:VEVENT
BEGIN:VEVENT
DTSTART;TZID=America/Chicago:20220511T120000
DTEND;TZID=America/Chicago:20220511T130000
DTSTAMP:20260419T214219
CREATED:20220505T153942Z
LAST-MODIFIED:20220505T153942Z
UID:2778-1652270400-1652274000@hinsdale.church
SUMMARY:The Men’s Club of Union Church
DESCRIPTION:Code Red Climate Crisis: In his recent book\, “How to Avoid a Climate Disaster\,” Bill Gates writes\, “If nothing else changes\, the world will keep producing greenhouse gases\, climate change will keep getting worse\, and the impact on humans will in all likelihood be catastrophic.”\n\nOur speaker\, Dorelle Ackermann\, a retired science teacher\, is passionate about climate change and global warming. She will address climate change that is evident today\, the basic science of global warming\, and the existing technology to “draw down” atmospheric carbon dioxide .\n\nPlease invite spouses\, friends and acquaintances. All women are invited.\n\nAs always\, a delicious $10.00 lunch will be served prior to the program. If you have not made a reservation with your caller\, please make one by calling the church office\, 630-323-4303 ext. 6652\, no later than Monday morning\, May 9\, 2022.
URL:https://hinsdale.church/anevent/the-mens-club-of-union-church/
LOCATION:Union Church of Hinsdale\, 137 S Garfield Ave.\, Hinsdale\, IL\, 60521\, United States
CATEGORIES:Community,Event
END:VEVENT
BEGIN:VEVENT
DTSTART;TZID=America/Chicago:20220508T110000
DTEND;TZID=America/Chicago:20220508T120000
DTSTAMP:20260419T214219
CREATED:20220505T160427Z
LAST-MODIFIED:20220505T160434Z
UID:2780-1652007600-1652011200@hinsdale.church
SUMMARY:Steinway Mini-Concert and Q&A!
DESCRIPTION:On MAY 8\, immediately following the 10:00 a.m. worship service\, Stephen C Edwards and Stephen Uhl will present a short 20-minute Mini Concert featuring our new Steinway (Rachmaninov\, Gershwin\, Kandor\, Ebb and more)! Additionally\, CJ\, our amazing Steinway rep\, will be here to help answer questions about this marvelous instrument.\n\nWe will also have some photos and video from our NYC Steinway selection trip and a reception following the concert/presentation. We are almost 45% of the way with our total campaign goal\, and 65% of the way to paying off the piano portion of the goal. There less than a month before the final invoice for the piano is due. Join us to know more and contribute here (select “Steinway Fundraising Campaign” from the drop down menu!).\n\nThank you\, thank you\, thank you for your support. I am so honored to be a part of this amazing community!  ~ Stephen C Edwards – Director of Music and Worship\n\nSee our flyer here.
URL:https://hinsdale.church/anevent/steinway-mini-concert-and-qa-2/
LOCATION:Union Church of Hinsdale\, 137 S Garfield Ave.\, Hinsdale\, IL\, 60521\, United States
CATEGORIES:Community,Event
END:VEVENT
END:VCALENDAR