BEGIN:VCALENDAR
VERSION:2.0
PRODID:-//Union Church of Hinsdale - ECPv6.15.18//NONSGML v1.0//EN
CALSCALE:GREGORIAN
METHOD:PUBLISH
X-WR-CALNAME:Union Church of Hinsdale
X-ORIGINAL-URL:https://hinsdale.church
X-WR-CALDESC:Events for Union Church of Hinsdale
REFRESH-INTERVAL;VALUE=DURATION:PT1H
X-Robots-Tag:noindex
X-PUBLISHED-TTL:PT1H
BEGIN:VTIMEZONE
TZID:America/Chicago
BEGIN:DAYLIGHT
TZOFFSETFROM:-0600
TZOFFSETTO:-0500
TZNAME:CDT
DTSTART:20240310T080000
END:DAYLIGHT
BEGIN:STANDARD
TZOFFSETFROM:-0500
TZOFFSETTO:-0600
TZNAME:CST
DTSTART:20241103T070000
END:STANDARD
BEGIN:DAYLIGHT
TZOFFSETFROM:-0600
TZOFFSETTO:-0500
TZNAME:CDT
DTSTART:20250309T080000
END:DAYLIGHT
BEGIN:STANDARD
TZOFFSETFROM:-0500
TZOFFSETTO:-0600
TZNAME:CST
DTSTART:20251102T070000
END:STANDARD
BEGIN:DAYLIGHT
TZOFFSETFROM:-0600
TZOFFSETTO:-0500
TZNAME:CDT
DTSTART:20260308T080000
END:DAYLIGHT
BEGIN:STANDARD
TZOFFSETFROM:-0500
TZOFFSETTO:-0600
TZNAME:CST
DTSTART:20261101T070000
END:STANDARD
BEGIN:DAYLIGHT
TZOFFSETFROM:-0600
TZOFFSETTO:-0500
TZNAME:CDT
DTSTART:20270314T080000
END:DAYLIGHT
BEGIN:STANDARD
TZOFFSETFROM:-0500
TZOFFSETTO:-0600
TZNAME:CST
DTSTART:20271107T070000
END:STANDARD
END:VTIMEZONE
BEGIN:VEVENT
DTSTART;TZID=America/Chicago:20251013T130000
DTEND;TZID=America/Chicago:20251013T140000
DTSTAMP:20260419T200015
CREATED:20250923T202803Z
LAST-MODIFIED:20250923T202803Z
UID:3938-1760360400-1760364000@hinsdale.church
SUMMARY:Weekly Read-In\, bring your own book and read
DESCRIPTION:Mondays\, 1:00 – 2:00 in Virginia’s Corner
URL:https://hinsdale.church/anevent/weekly-read-in-bring-your-own-book-and-read-2/
LOCATION:Union Church of Hinsdale\, 137 S Garfield Ave.\, Hinsdale\, IL\, 60521\, United States
CATEGORIES:Community,Event
END:VEVENT
BEGIN:VEVENT
DTSTART;TZID=America/Chicago:20251016T180000
DTEND;TZID=America/Chicago:20251016T210000
DTSTAMP:20260419T200015
CREATED:20250917T202433Z
LAST-MODIFIED:20250917T202433Z
UID:3930-1760637600-1760648400@hinsdale.church
SUMMARY:Mahjong Guild Lessons
DESCRIPTION:6-9\, Rowell Hall
URL:https://hinsdale.church/anevent/mahjong-guild-lessons/
LOCATION:Union Church of Hinsdale\, 137 S Garfield Ave.\, Hinsdale\, IL\, 60521\, United States
CATEGORIES:Community,Event
END:VEVENT
BEGIN:VEVENT
DTSTART;VALUE=DATE:20251019
DTEND;VALUE=DATE:20251020
DTSTAMP:20260419T200015
CREATED:20250917T202146Z
LAST-MODIFIED:20251021T214342Z
UID:3928-1760832000-1760918399@hinsdale.church
SUMMARY:Golden Appreciation Brunch
DESCRIPTION:10/19 Dining Room
URL:https://hinsdale.church/anevent/golden-appreciation-brunch/
LOCATION:Union Church of Hinsdale\, 137 S Garfield Ave.\, Hinsdale\, IL\, 60521\, United States
CATEGORIES:Community,Event
END:VEVENT
BEGIN:VEVENT
DTSTART;TZID=America/Chicago:20251019T090000
DTEND;TZID=America/Chicago:20251019T100000
DTSTAMP:20260419T200015
CREATED:20250917T202733Z
LAST-MODIFIED:20251029T205759Z
UID:3932-1760864400-1760868000@hinsdale.church
SUMMARY:Worship in the Woods\, Fullersburg Woods
DESCRIPTION:
URL:https://hinsdale.church/anevent/worship-in-the-woods-fullersburg-woods/
LOCATION:Fullersburg Woods\, 3609 Spring Road\, Oak Brook\, IL\, 60523
CATEGORIES:Community,Event,Worship
END:VEVENT
BEGIN:VEVENT
DTSTART;TZID=America/Chicago:20251019T111500
DTEND;TZID=America/Chicago:20251019T123000
DTSTAMP:20260419T200015
CREATED:20250917T202254Z
LAST-MODIFIED:20251021T214244Z
UID:3929-1760872500-1760877000@hinsdale.church
SUMMARY:Adult Education:  Intellectual Freedom and the Freedom to Read
DESCRIPTION:11:15-12:30 in the Youth Room
URL:https://hinsdale.church/anevent/dult-education-intellectual-freedom-and-the-freedom-to-read/
LOCATION:Union Church of Hinsdale\, 137 S Garfield Ave.\, Hinsdale\, IL\, 60521\, United States
CATEGORIES:Community,Event
END:VEVENT
BEGIN:VEVENT
DTSTART;TZID=America/Chicago:20251019T150000
DTEND;TZID=America/Chicago:20251019T170000
DTSTAMP:20260419T200015
CREATED:20251001T215414Z
LAST-MODIFIED:20251021T214233Z
UID:3951-1760886000-1760893200@hinsdale.church
SUMMARY:Camerata Chicago: Peter and the Wolf Concert
DESCRIPTION:Camerata Chicago is thrilled to become Ensemble-in-Residence at Union Church and to present Peter and the Wolf by Prokofiev. Narrated by renowned soprano Robin Wiper\, this entertaining and engaging family concert will delight you and your children!\nConducted by Maestro Drostan Hall\, you will hear Jupiter from The Planets by Holst\, Mozart’s Horn Concerto played by Lee Shirer\, and Handel’s Let the Bright Seraphim sung by Robin Wiper. \nFor the Union Church member discount code\, please see the newsletter or bulletin. \nCAMERATA CHICAGO\nPeter and the Wolf\nOrchestra with Narrator and Soprano Robin Wiper\nFamily-friendly concert in Hinsdale\n3 pm October 19\nUnion Church\, HINSDALE \nWebsite|Tickets
URL:https://hinsdale.church/anevent/camerata-chicago-peter-and-the-wolf-concert/
LOCATION:Union Church of Hinsdale\, 137 S Garfield Ave.\, Hinsdale\, IL\, 60521\, United States
CATEGORIES:Community,Event
END:VEVENT
BEGIN:VEVENT
DTSTART;TZID=America/Chicago:20251020T130000
DTEND;TZID=America/Chicago:20251020T140000
DTSTAMP:20260419T200015
CREATED:20250923T202853Z
LAST-MODIFIED:20250923T202853Z
UID:3939-1760965200-1760968800@hinsdale.church
SUMMARY:Weekly Read-In\, bring your own book and read
DESCRIPTION:Mondays\, 1:00 – 2:00 in Virginia’s Corner
URL:https://hinsdale.church/anevent/weekly-read-in-bring-your-own-book-and-read-3/
LOCATION:Union Church of Hinsdale\, 137 S Garfield Ave.\, Hinsdale\, IL\, 60521\, United States
CATEGORIES:Community,Event
END:VEVENT
BEGIN:VEVENT
DTSTART;TZID=America/Chicago:20251026T090000
DTEND;TZID=America/Chicago:20251026T100000
DTSTAMP:20260419T200015
CREATED:20250917T202824Z
LAST-MODIFIED:20251029T205751Z
UID:3934-1761469200-1761472800@hinsdale.church
SUMMARY:Worship in the Woods\, Fullersburg Woods
DESCRIPTION:
URL:https://hinsdale.church/anevent/worship-in-the-woods-fullersburg-woods-2/
LOCATION:Fullersburg Woods\, 3609 Spring Road\, Oak Brook\, IL\, 60523
CATEGORIES:Community,Event,Worship
END:VEVENT
BEGIN:VEVENT
DTSTART;TZID=America/Chicago:20251026T160000
DTEND;TZID=America/Chicago:20251026T180000
DTSTAMP:20260419T200015
CREATED:20251021T215059Z
LAST-MODIFIED:20251029T205740Z
UID:3970-1761494400-1761501600@hinsdale.church
SUMMARY:Ease On Down The Road With The Boulevard Of Chicago
DESCRIPTION:4:00 p.m.\, in the Sanctuary\nJoin us for an evening of music as the Allegrezza Singers present Ease on Down the Road\, a special benefit concert for The Boulevard of Chicago! This inspiring performance will not only fill the room with harmony but will also help raise vital support for The Boulevard’s mission of providing medical respite care & housing for individuals experiencing homelessness. Following the concert\, guests are invited to enjoy light refreshments & connect with others who share a commitment to community\, compassion\, and healing. Mark your calendars & bring your friends! Follow the link in the weekly email to purchase tickets!
URL:https://hinsdale.church/anevent/ease-on-down-the-road-with-the-boulevard-of-chicago/
LOCATION:Union Church of Hinsdale\, 137 S Garfield Ave.\, Hinsdale\, IL\, 60521\, United States
CATEGORIES:Community,Event
END:VEVENT
BEGIN:VEVENT
DTSTART;TZID=America/Chicago:20251027T130000
DTEND;TZID=America/Chicago:20251027T140000
DTSTAMP:20260419T200015
CREATED:20250923T202926Z
LAST-MODIFIED:20250923T202926Z
UID:3940-1761570000-1761573600@hinsdale.church
SUMMARY:Weekly Read-In\, bring your own book and read
DESCRIPTION:Mondays\, 1:00 – 2:00 in Virginia’s Corner
URL:https://hinsdale.church/anevent/weekly-read-in-bring-your-own-book-and-read-4/
LOCATION:Union Church of Hinsdale\, 137 S Garfield Ave.\, Hinsdale\, IL\, 60521\, United States
CATEGORIES:Community,Event
END:VEVENT
BEGIN:VEVENT
DTSTART;VALUE=DATE:20251101
DTEND;VALUE=DATE:20251130
DTSTAMP:20260419T200015
CREATED:20250917T202006Z
LAST-MODIFIED:20251209T185345Z
UID:3926-1761955200-1764460799@hinsdale.church
SUMMARY:November Sermon Series - Sharing our Voice\, Unabashed Gratitude
DESCRIPTION:11/1-11/29
URL:https://hinsdale.church/anevent/november-sermon-series-sharing-our-voice-unabashed-gratitude/
LOCATION:Union Church of Hinsdale\, 137 S Garfield Ave.\, Hinsdale\, IL\, 60521\, United States
CATEGORIES:Community,Event,Worship
END:VEVENT
BEGIN:VEVENT
DTSTART;VALUE=DATE:20251101
DTEND;VALUE=DATE:20251201
DTSTAMP:20260419T200015
CREATED:20251029T210147Z
LAST-MODIFIED:20251209T185355Z
UID:3983-1761955200-1764547199@hinsdale.church
SUMMARY:Generosity Campaign
DESCRIPTION:“It takes a collective the collective effort of all of use to make the world more like Jesus would want it to be. We take care of each other and our siblings in Christ beyond our congregation. Your support allows us to keep our 160-year-old mission strong and our church foundation solid. Please support the campaign either by submitting a pledge or by setting up a regular subscription“ \nhttps://onrealm.org/uchinsdale/-/form/pledge/2025 \n 
URL:https://hinsdale.church/anevent/generosity-campaign-3/
LOCATION:Union Church of Hinsdale\, 137 S Garfield Ave.\, Hinsdale\, IL\, 60521\, United States
CATEGORIES:Community,Event
END:VEVENT
BEGIN:VEVENT
DTSTART;TZID=America/Chicago:20251102T111500
DTEND;TZID=America/Chicago:20251102T123000
DTSTAMP:20260419T200015
CREATED:20250623T213141Z
LAST-MODIFIED:20251209T185415Z
UID:3823-1762082100-1762086600@hinsdale.church
SUMMARY:New Member Orientation (In person)
DESCRIPTION:
URL:https://hinsdale.church/anevent/new-member-orientation-in-person/
LOCATION:Union Church of Hinsdale\, 137 S Garfield Ave.\, Hinsdale\, IL\, 60521\, United States
CATEGORIES:Community,Event
END:VEVENT
BEGIN:VEVENT
DTSTART;TZID=America/Chicago:20251102T111500
DTEND;TZID=America/Chicago:20251102T123000
DTSTAMP:20260419T200015
CREATED:20250806T182954Z
LAST-MODIFIED:20251209T185406Z
UID:3861-1762082100-1762086600@hinsdale.church
SUMMARY:Hang in There Current Events Discussion Group
DESCRIPTION:Feeling the need to connect with others as we all navigate our way through what can be disorienting current events? This group began coming together in February to do just that. We will meet monthly on the first Sunday. Feel free to join us anytime!
URL:https://hinsdale.church/anevent/hang-in-there-current-events-discussion-group-3/
LOCATION:Union Church of Hinsdale\, 137 S Garfield Ave.\, Hinsdale\, IL\, 60521\, United States
CATEGORIES:Community,Event
END:VEVENT
BEGIN:VEVENT
DTSTART;TZID=America/Chicago:20251105T190000
DTEND;TZID=America/Chicago:20251105T201500
DTSTAMP:20260419T200015
CREATED:20250623T213322Z
LAST-MODIFIED:20250623T213322Z
UID:3826-1762369200-1762373700@hinsdale.church
SUMMARY:New Member Orientation (Zoom)
DESCRIPTION:
URL:https://hinsdale.church/anevent/new-member-orientation-zoom/
LOCATION:Union Church of Hinsdale\, 137 S Garfield Ave.\, Hinsdale\, IL\, 60521\, United States
CATEGORIES:Community,Event
END:VEVENT
BEGIN:VEVENT
DTSTART;TZID=America/Chicago:20251106T190000
DTEND;TZID=America/Chicago:20251106T210000
DTSTAMP:20260419T200015
CREATED:20251110T205401Z
LAST-MODIFIED:20251110T205401Z
UID:4001-1762455600-1762462800@hinsdale.church
SUMMARY:Monthly (Beginners) Mahjong Meet-up
DESCRIPTION:
URL:https://hinsdale.church/anevent/monthly-beginners-mahjong-meet-up/
LOCATION:Union Church of Hinsdale\, 137 S Garfield Ave.\, Hinsdale\, IL\, 60521\, United States
CATEGORIES:Community,Event
END:VEVENT
BEGIN:VEVENT
DTSTART;VALUE=DATE:20251116
DTEND;VALUE=DATE:20251117
DTSTAMP:20260419T200015
CREATED:20250623T213411Z
LAST-MODIFIED:20250623T213411Z
UID:3827-1763251200-1763337599@hinsdale.church
SUMMARY:New Member Welcome Sunday
DESCRIPTION:
URL:https://hinsdale.church/anevent/new-member-welcome-sunday-3/
LOCATION:Union Church of Hinsdale\, 137 S Garfield Ave.\, Hinsdale\, IL\, 60521\, United States
CATEGORIES:Community,Event
END:VEVENT
BEGIN:VEVENT
DTSTART;TZID=America/Chicago:20251116T111500
DTEND;TZID=America/Chicago:20251116T130000
DTSTAMP:20260419T200015
CREATED:20250730T212225Z
LAST-MODIFIED:20251209T185420Z
UID:3852-1763291700-1763298000@hinsdale.church
SUMMARY:Monthly Sandwich Making to Support the Night Ministry
DESCRIPTION:If you are looking for a powerful way to make an impact\, even with limited time\, look no further. Part of the Night Ministry’s mission is to provide approximately 150 sack lunches monthly to children and families in need. This is where Union Church can help! Volunteering less than 2 hours of your time\, you can be part of the team that buys\, assembles or delivers these lunches. We pack on the third Sunday of the month after the 10:00 service\, in the Dining Room. Just come on down\, or sign up here. \nThis does not have to be a monthly commitment\, sign up for the months that work for you. \nPlease keep in mind\, this is a great family activity or a way to gather those service hours. Please refer to the Sign Up Genius link below: \nhttps://www.signupgenius.com/go/20F0844ACA72B0-57632455-night#/
URL:https://hinsdale.church/anevent/monthly-sandwich-making-to-support-the-night-ministry-3/
LOCATION:Union Church of Hinsdale\, 137 S Garfield Ave.\, Hinsdale\, IL\, 60521\, United States
CATEGORIES:Community,Event
END:VEVENT
BEGIN:VEVENT
DTSTART;TZID=America/Chicago:20251119T160000
DTEND;TZID=America/Chicago:20251119T164500
DTSTAMP:20260419T200015
CREATED:20251022T190709Z
LAST-MODIFIED:20251209T185427Z
UID:3974-1763568000-1763570700@hinsdale.church
SUMMARY:Christmas Pageant rehearsal
DESCRIPTION:
URL:https://hinsdale.church/anevent/christmas-pageant-rehearsal-4/
LOCATION:Union Church of Hinsdale\, 137 S Garfield Ave.\, Hinsdale\, IL\, 60521\, United States
CATEGORIES:Community,Event
END:VEVENT
BEGIN:VEVENT
DTSTART;VALUE=DATE:20251123
DTEND;VALUE=DATE:20251201
DTSTAMP:20260419T200015
CREATED:20251118T233921Z
LAST-MODIFIED:20251209T185435Z
UID:4015-1763856000-1764547199@hinsdale.church
SUMMARY:Special Thanksgiving Offering
DESCRIPTION:Click the link below to give: \nhttps://onrealm.org/uchinsdale/-/form/give/now \n 
URL:https://hinsdale.church/anevent/special-thanksgiving-offering/
LOCATION:Union Church of Hinsdale\, 137 S Garfield Ave.\, Hinsdale\, IL\, 60521\, United States
CATEGORIES:Community,Event
END:VEVENT
BEGIN:VEVENT
DTSTART;VALUE=DATE:20251130
DTEND;VALUE=DATE:20251215
DTSTAMP:20260419T200015
CREATED:20250917T202055Z
LAST-MODIFIED:20250917T202055Z
UID:3927-1764460800-1765756799@hinsdale.church
SUMMARY:Advent
DESCRIPTION:
URL:https://hinsdale.church/anevent/advent/
LOCATION:IL
CATEGORIES:Community,Event,Worship
END:VEVENT
BEGIN:VEVENT
DTSTART;VALUE=DATE:20251130
DTEND;VALUE=DATE:20260107
DTSTAMP:20260419T200015
CREATED:20251029T210307Z
LAST-MODIFIED:20251029T210307Z
UID:3985-1764460800-1767743999@hinsdale.church
SUMMARY:Mitten Tree
DESCRIPTION:Bring in mittens\, scarves\, and gloves to benefit the children of our Mission Ministries\, Nov 30 – Jan 6.
URL:https://hinsdale.church/anevent/mitten-tree/
LOCATION:Union Church of Hinsdale\, 137 S Garfield Ave.\, Hinsdale\, IL\, 60521\, United States
CATEGORIES:Community,Event
END:VEVENT
BEGIN:VEVENT
DTSTART;TZID=America/Chicago:20251130T180000
DTEND;TZID=America/Chicago:20251130T191500
DTSTAMP:20260419T200015
CREATED:20251110T205030Z
LAST-MODIFIED:20251209T185441Z
UID:3996-1764525600-1764530100@hinsdale.church
SUMMARY:The First Christmas Advent Book Discussion with Rev. Tim Rhodes
DESCRIPTION:6:00 – 7:15 via Zoom- contact Adriana Kieffer\, akieffer@uchinsdale.org for the link.
URL:https://hinsdale.church/anevent/the-first-christmas-advent-book-discussion-with-rev-tim-rhodes/
LOCATION:Union Church of Hinsdale\, 137 S Garfield Ave.\, Hinsdale\, IL\, 60521\, United States
CATEGORIES:Community,Event
END:VEVENT
BEGIN:VEVENT
DTSTART;TZID=America/Chicago:20251203T130000
DTEND;TZID=America/Chicago:20251203T150000
DTSTAMP:20260419T200015
CREATED:20251118T231957Z
LAST-MODIFIED:20251118T231957Z
UID:4013-1764766800-1764774000@hinsdale.church
SUMMARY:The Annual Silver Tea: Sounds of the Season
DESCRIPTION:
URL:https://hinsdale.church/anevent/the-annual-silver-tea-sounds-of-the-season/
LOCATION:Union Church of Hinsdale\, 137 S Garfield Ave.\, Hinsdale\, IL\, 60521\, United States
CATEGORIES:Community,Event
END:VEVENT
BEGIN:VEVENT
DTSTART;TZID=America/Chicago:20251203T160000
DTEND;TZID=America/Chicago:20251203T164500
DTSTAMP:20260419T200015
CREATED:20251022T190834Z
LAST-MODIFIED:20251022T190834Z
UID:3976-1764777600-1764780300@hinsdale.church
SUMMARY:Christmas Pageant rehearsal
DESCRIPTION:
URL:https://hinsdale.church/anevent/christmas-pageant-rehearsal-5/
LOCATION:Union Church of Hinsdale\, 137 S Garfield Ave.\, Hinsdale\, IL\, 60521\, United States
CATEGORIES:Community,Event
END:VEVENT
BEGIN:VEVENT
DTSTART;TZID=America/Chicago:20251204T190000
DTEND;TZID=America/Chicago:20251204T210000
DTSTAMP:20260419T200015
CREATED:20251110T205440Z
LAST-MODIFIED:20251110T205440Z
UID:4002-1764874800-1764882000@hinsdale.church
SUMMARY:Monthly (Beginners) Mahjong Meet-up
DESCRIPTION:
URL:https://hinsdale.church/anevent/monthly-beginners-mahjong-meet-up-2/
LOCATION:Union Church of Hinsdale\, 137 S Garfield Ave.\, Hinsdale\, IL\, 60521\, United States
CATEGORIES:Community,Event
END:VEVENT
BEGIN:VEVENT
DTSTART;TZID=America/Chicago:20251206T100000
DTEND;TZID=America/Chicago:20251206T123000
DTSTAMP:20260419T200015
CREATED:20251022T190530Z
LAST-MODIFIED:20251209T185448Z
UID:3972-1765015200-1765024200@hinsdale.church
SUMMARY:Rudolph’s Boutique
DESCRIPTION:
URL:https://hinsdale.church/anevent/rudolphs-boutique-4/
LOCATION:Union Church of Hinsdale\, 137 S Garfield Ave.\, Hinsdale\, IL\, 60521\, United States
CATEGORIES:Community,Event
END:VEVENT
BEGIN:VEVENT
DTSTART;TZID=America/Chicago:20251207T090000
DTEND;TZID=America/Chicago:20251207T120000
DTSTAMP:20260419T200015
CREATED:20251030T140857Z
LAST-MODIFIED:20251209T185501Z
UID:3986-1765098000-1765108800@hinsdale.church
SUMMARY:Eleanor's Stockings
DESCRIPTION:Help stuff stockings for communities served by our Eleanor’s Stockings mission project. Sunday\, December 7 after both the 9:00 and 10:00 service in the JK room off the Gathering Place. This is a mission project that is good for all ages\, young children through adults.
URL:https://hinsdale.church/anevent/eleanors-stockings-2/
LOCATION:Union Church of Hinsdale\, 137 S Garfield Ave.\, Hinsdale\, IL\, 60521\, United States
CATEGORIES:Community,Event
END:VEVENT
BEGIN:VEVENT
DTSTART;TZID=America/Chicago:20251207T111500
DTEND;TZID=America/Chicago:20251207T123000
DTSTAMP:20260419T200015
CREATED:20251110T204608Z
LAST-MODIFIED:20251209T185317Z
UID:3992-1765106100-1765110600@hinsdale.church
SUMMARY:Super Agers Presentation
DESCRIPTION:Click here for the PDF flyer. \n11:15 – 12:30 Youth Room
URL:https://hinsdale.church/anevent/super-agers-presentation/
LOCATION:Union Church of Hinsdale\, 137 S Garfield Ave.\, Hinsdale\, IL\, 60521\, United States
CATEGORIES:Community,Event
END:VEVENT
BEGIN:VEVENT
DTSTART;TZID=America/Chicago:20251207T150000
DTEND;TZID=America/Chicago:20251207T170000
DTSTAMP:20260419T200015
CREATED:20251204T152302Z
LAST-MODIFIED:20251204T152302Z
UID:4032-1765119600-1765126800@hinsdale.church
SUMMARY:Allegrezza Presents: Magnificat
DESCRIPTION:Sunday\, December 7\, 3:00 p.m.\, in the Sanctuary \nAllegrezza’s upcoming Holiday Spectacular centers on Magnificat\, chosen for its beauty and now imbued with themes of justice\, courage\, and grace. The concert imagery reflects Mary’s song—a powerful yet tender plea for justice—honoring immigrant mothers’ resilience and connecting to America’s symbol of hope. At its core is Luke 1:52: “He has put down the mighty from their seats and exalted the humble\,” reminding us that compassion can overcome power. The event is framed as art in action\, calling for empathy and solidarity. Attendees can support this mission by attending the concert\, with proceeds benefiting the National Immigrant Justice Center to promote dignity and hope for those seeking safety and belonging.
URL:https://hinsdale.church/anevent/allegrezza-presents-magnificat/
LOCATION:Union Church of Hinsdale\, 137 S Garfield Ave.\, Hinsdale\, IL\, 60521\, United States
CATEGORIES:Community,Event
END:VEVENT
END:VCALENDAR